
BEGIN:VCALENDAR
VERSION:2.0
PRODID:-//HealthcareNOWradio.com - ECPv6.15.17//NONSGML v1.0//EN
CALSCALE:GREGORIAN
METHOD:PUBLISH
X-ORIGINAL-URL:https://www.healthcarenowradio.com
X-WR-CALDESC:Events for HealthcareNOWradio.com
REFRESH-INTERVAL;VALUE=DURATION:PT1H
X-Robots-Tag:noindex
X-PUBLISHED-TTL:PT1H
BEGIN:VTIMEZONE
TZID:America/New_York
BEGIN:DAYLIGHT
TZOFFSETFROM:-0500
TZOFFSETTO:-0400
TZNAME:EDT
DTSTART:20250309T070000
END:DAYLIGHT
BEGIN:STANDARD
TZOFFSETFROM:-0400
TZOFFSETTO:-0500
TZNAME:EST
DTSTART:20251102T060000
END:STANDARD
BEGIN:DAYLIGHT
TZOFFSETFROM:-0500
TZOFFSETTO:-0400
TZNAME:EDT
DTSTART:20260308T070000
END:DAYLIGHT
BEGIN:STANDARD
TZOFFSETFROM:-0400
TZOFFSETTO:-0500
TZNAME:EST
DTSTART:20261101T060000
END:STANDARD
BEGIN:DAYLIGHT
TZOFFSETFROM:-0500
TZOFFSETTO:-0400
TZNAME:EDT
DTSTART:20270314T070000
END:DAYLIGHT
BEGIN:STANDARD
TZOFFSETFROM:-0400
TZOFFSETTO:-0500
TZNAME:EST
DTSTART:20271107T060000
END:STANDARD
END:VTIMEZONE
BEGIN:VEVENT
DTSTART;VALUE=DATE:20260208
DTEND;VALUE=DATE:20260212
DTSTAMP:20260424T083808
CREATED:20251019T205435Z
LAST-MODIFIED:20251019T205435Z
UID:10000422-1770508800-1770854399@www.healthcarenowradio.com
SUMMARY:2026 AHA Rural Health Care Leadership Conference
DESCRIPTION:February 8-11\, 2026  JW Marriott\, San Antonio Hill Country\, San Antonio TX \nThe 2026 AHA Rural Health Care Leadership Conference in San Antonio\, will gather more than 1\,000 rural health leaders committed to advancing rural health and providing quality care for patients and communities. The conference will feature top rural practitioners sharing actionable strategies and resources aimed at improving access to care\, leveraging unique workforce approaches and implementing digital technologies. \nThey will explore the most significant challenges facing rural health care providers and present innovative approaches to transform care delivery and business practices. \nObjectives\nParticipants will: \n\nExplore strategies for fostering a more flexible and adaptive workforce in rural health settings.\nIdentify effective approaches for advancing quality\, patient safety and performance improvement in a rural care environment.\nExamine emergency and cybersecurity preparedness\, response and recovery plans tailored to rural hospitals and health systems.\nDiscuss value-based care and emerging payment models designed for rural and small population markets.\nEvaluate strategies and collaborative models to improve access to behavioral\, maternal and specialty services.\nAnalyze approaches for advancing community and population health and economic vitality in rural communities.\nAssess value and innovative approaches to joint ventures\, affiliations and mergers for rural hospitals.\nReview the adoption of cutting-edge technology and AI to improve access to care\, address workforce shortages\, reduce administrative burden and mitigate coverage denials or delays.\nLearn best practices and high-performing care models that address the health care needs of American Indian and Alaskan Native patients and communities.\nDevelop insights into strategies for effective and high-performing governance that strengthen leadership\, accountability and decision-making in rural hospitals and health systems.\n\nWho Should Attend\n\nRural Hospital CEOs\, Administrators\, Senior Executives and System Leaders\nGoverning Board Members\nNursing and Physician Executives\nPublic Health and Community Leaders\nExecutives of Rural Health Care Associations\, Networks and Clinics\n\nRegister for this event.
URL:https://www.healthcarenowradio.com/event/2026-aha-rural-health-care-leadership-conference/
LOCATION:JW Marriott San Antonio Hill Country Resort & Spa\, 23808 Resort Parkway\, San Antonio\, 78261\, United States
CATEGORIES:In-Person Events
END:VEVENT
BEGIN:VEVENT
DTSTART;VALUE=DATE:20260211
DTEND;VALUE=DATE:20260213
DTSTAMP:20260424T083808
CREATED:20260108T031530Z
LAST-MODIFIED:20260108T031530Z
UID:10000430-1770768000-1770940799@www.healthcarenowradio.com
SUMMARY:ASTP Annual Meeting
DESCRIPTION:February 11-12\, 2026  Washington DC \nHashtag: #ASTP2026 \nThe ASTP Annual Meeting is back in Washington\, DC on February 11-12\, 2026. Join them for two days of conversation\, learning\, and networking. You’ll hear about key health IT policy and tech issues such as information blocking and TEFCA through a variety of keynote speakers and mainstage\, breakout\, and education sessions. \nWhat to expect at the Annual Meeting\nOn the main stage\, they will discuss the latest TEFCA™ developments\, HHS’s commitment to improving prior authorization\, artificial intelligence in health care settings\, and the newest innovations in digital health. Check out breakout sessions about information blocking (including an information blocking bootcamp!)\, TEFCA\, the latest data analysis from ASTP\, USCDI\, and more. \nFor those who are unable to attend in person\, the main stage sessions will be live-streamed. A room block at the Omni Shoreham is available on a first-come\, first-served basis using until January 19\, so book your room today. \nRegister for this event.
URL:https://www.healthcarenowradio.com/event/astp-annual-meeting-2/
LOCATION:FL
CATEGORIES:Hybrid Events
END:VEVENT
BEGIN:VEVENT
DTSTART;VALUE=DATE:20260222
DTEND;VALUE=DATE:20260227
DTSTAMP:20260424T083808
CREATED:20251102T210356Z
LAST-MODIFIED:20251102T210356Z
UID:10000425-1771718400-1772150399@www.healthcarenowradio.com
SUMMARY:ViVE 2026
DESCRIPTION:February 22-25\, 2026  Los Angeles Convention Center\, Los Angeles CA \nEvent Page \nHashtag: #ViVEvent \nViVE merges the leadership of CHIME and the marketplace of HLTH to create a digital health event focused on the business of transformation in healthcare – bringing together C-suite executives\, senior digital health leaders and buyers\, health startups and investors\, policymakers\, the patient community\, and solution providers. \nThey are excited to return to Los Angeles—a city that welcomed them with open arms and helped make ViVE a success in the past. With more than 500 healthcare companies this concentration of healthcare organizations fosters a vibrant professional community and provides numerous opportunities for networking and collaboration. \nJoin thousands of your industry peers at the only digital health event focusing on YOU. \nFeatured Zones\n\nAI Zone\nThe AI Zone is a destination in the show floor where ViVE attendees will experience live interactive demonstrations around specific use cases for AI in healthcare.\nInteropNOW! Zone\nThe expanded InteropNOW! Zone will demonstrate HL7 FHIR – based systems that are dominating the world. Interoperability and the free flow of data is fueling Artificial Intelligence (AI) capabilities\, patient-centric approaches to care\, and reducing physician burden by improving interoperability with healthcare payers.\n\nRegister for this event.
URL:https://www.healthcarenowradio.com/event/vive-2026/
LOCATION:Los Angeles Convention Center\, 1201 S Figueroa St\, Los Angeles\, CA\, 90015\, United States
CATEGORIES:In-Person Events
END:VEVENT
BEGIN:VEVENT
DTSTART;VALUE=DATE:20260223
DTEND;VALUE=DATE:20260227
DTSTAMP:20260424T083808
CREATED:20251102T214300Z
LAST-MODIFIED:20251102T214300Z
UID:10000427-1771804800-1772150399@www.healthcarenowradio.com
SUMMARY:2026 HCAA Executive Forum
DESCRIPTION:February 23-25\, 2026  Marriott Rivercenter on the Riverwalk\, San Antonio TX \nEvent Page \nThe Health Care Administrators Association (HCAA)\, a leader in education\, networking\, and advocacy for the self-funding industry\, announced registration is open for Executive Forum 2026. This year’s conference\, themed “Bold Enough to Lead. Brave Enough to Change\,” will feature keynotes\, panel discussions\, and networking sessions for executive leaders in the self-funding community. \n“The self-funding industry is at a turning point that demands both courage and innovation\,” said Carol Berry\, CSFS\, Chief Executive Officer of HCAA. “February’s Executive Forum will challenge leaders to embrace bold leadership and meaningful change by examining what must evolve within our industry to better serve employers\, benefit advisors\, and TPAs in the years ahead.” \nHighlights of Executive Forum 2026 include: \n\nEducational Sessions & Panels:\n\nKeynote Mike Abrashoff\, former Commander of the USS Benfold and author of It’s Your Ship\, will open the forum with It’s Your Ship — Achieving Breakthrough Performance. During his presentation\, Abrashoff will share how empowering teams\, transforming culture\, and leading with trust can unlock unprecedented organizational success.\nIn How to Actually Use AI: A Hands-On Mini-Hackathon for Self-Insured Leaders\, Hermine Tranie and Alex Andrei\, co-founders of ClarityCare AI\, will guide attendees through HCAA’s first-ever interactive AI workshop. This immersive session will move beyond theory\, helping participants collaborate on real-world applications of AI that can drive innovation and efficiency within their organizations.\nAdam V. Russo\, Esq.\, Chief Executive Officer of The Phia Group\, will present Facing the Future: Surging Costs and Regulatory Shifts That Demand Bold Leadership. Russo will address the rising costs and complex compliance challenges facing self-funded plans\, offering actionable insights and strategies to help leaders navigate an evolving regulatory landscape.\nIn Who Really Wins? Transforming the TPA Playbook for IDR\, Michael Strong\, Director of Policy & Operations Strategy at Reliant Health Partners\, will challenge TPAs to rethink arbitration strategies and redefine their role in the Independent Dispute Resolution (IDR) process. Attendees will gain practical tactics for avoiding arbitration and seizing new opportunities to strengthen payer-provider relationships.\nThe panel Bold Without the Noise: Strategic Choices for the TPA C-Suite will explore how leaders can make intentional\, high-impact decisions in a saturated marketplace. Featuring Todd Archer\, President of Concierge Third Partner Administrator; Kasha Ozog\, Chief Executive Officer of Coastal Administrative Services; and George Stiles\, President & Chief Operating Officer of Planned Administrators\, Inc.; the session will be moderated by Dr. Madeline Smith\, Founder & COO of MADDRS\, LLC.\n\n\nNetworking and Engagement Opportunities\n\nThe event will also offer a reception for first-time attendees\, a welcome reception for all participants\, and networking opportunities that will allow attendees to engage with industry peers\, thought leaders\, and key stakeholders throughout the event.\n\n\n\nAll HCAA members\, along with non-member TPAs\, benefit advisors\, and benefit administrators are invited to attend the Executive Forum 2026. \nRegister for this event.
URL:https://www.healthcarenowradio.com/event/2026-hcaa-executive-forum/
LOCATION:San Antonio Marriott Rivercenter\, 101 Bowie St.\, San Antonio\, TX\, 78205\, United States
CATEGORIES:In-Person Events
END:VEVENT
BEGIN:VEVENT
DTSTART;VALUE=DATE:20260223
DTEND;VALUE=DATE:20260227
DTSTAMP:20260424T083808
CREATED:20260107T035913Z
LAST-MODIFIED:20260107T035913Z
UID:10000429-1771804800-1772150399@www.healthcarenowradio.com
SUMMARY:2026 State Healthcare IT Connect Summit
DESCRIPTION:February 23-26\, 2026  Hyatt Regency\, New Orleans\, LA \nThe 2026 State HIT Connect Conference convenes at a pivotal moment for Medicaid and Health and Human Services (HHS) innovation. Recent federal legislation—including provisions in the One Big Beautiful Bill Act (OBBBA)—has introduced sweeping policy changes impacting eligibility processes\, cost-sharing rules\, provider payment structures\, and IT system requirements. These developments intersect with ongoing modernization efforts\, creating both operational challenges and opportunities for strategic alignment. \nConcurrently\, federal initiatives such as the CMS Health Tech Ecosystem\, the rollout of CMS-Aligned Networks\, and a sustained emphasis on interoperability\, digital identity\, and responsible data use point toward a shared vision for more connected\, efficient\, and person-centered systems. \nWhile modernization frameworks like the Streamlined Modular Certification (SMC) process face potential uncertainty amid shifting federal priorities and fiscal constraints\, states continue to advance modular procurement\, intelligent automation\, and implementing value based systems transformation. The expanding role of AI\, real-time data exchange\, and integrated cross-agency service delivery underscores a broader movement toward systemwide transformation. \nNow in its 16th year\, the State HIT Connect Conference remains a trusted national platform for state and federal leaders\, technologists\, policymakers\, and innovators to share progress\, examine lessons learned\, and align strategies that deliver smarter\, more equitable health and human services. \nRegister for this event.
URL:https://www.healthcarenowradio.com/event/2026-state-healthcare-it-connect-summit/
LOCATION:Hyatt Regency New Orleans\, 601 Loyola Avenue\, New Orleans\, LA\, 70113\, United States
CATEGORIES:In-Person Events
END:VEVENT
END:VCALENDAR