
BEGIN:VCALENDAR
VERSION:2.0
PRODID:-//HealthcareNOWradio.com - ECPv6.15.17//NONSGML v1.0//EN
CALSCALE:GREGORIAN
METHOD:PUBLISH
X-ORIGINAL-URL:https://www.healthcarenowradio.com
X-WR-CALDESC:Events for HealthcareNOWradio.com
REFRESH-INTERVAL;VALUE=DURATION:PT1H
X-Robots-Tag:noindex
X-PUBLISHED-TTL:PT1H
BEGIN:VTIMEZONE
TZID:America/New_York
BEGIN:DAYLIGHT
TZOFFSETFROM:-0500
TZOFFSETTO:-0400
TZNAME:EDT
DTSTART:20240310T070000
END:DAYLIGHT
BEGIN:STANDARD
TZOFFSETFROM:-0400
TZOFFSETTO:-0500
TZNAME:EST
DTSTART:20241103T060000
END:STANDARD
BEGIN:DAYLIGHT
TZOFFSETFROM:-0500
TZOFFSETTO:-0400
TZNAME:EDT
DTSTART:20250309T070000
END:DAYLIGHT
BEGIN:STANDARD
TZOFFSETFROM:-0400
TZOFFSETTO:-0500
TZNAME:EST
DTSTART:20251102T060000
END:STANDARD
BEGIN:DAYLIGHT
TZOFFSETFROM:-0500
TZOFFSETTO:-0400
TZNAME:EDT
DTSTART:20260308T070000
END:DAYLIGHT
BEGIN:STANDARD
TZOFFSETFROM:-0400
TZOFFSETTO:-0500
TZNAME:EST
DTSTART:20261101T060000
END:STANDARD
END:VTIMEZONE
BEGIN:VEVENT
DTSTART;VALUE=DATE:20251130
DTEND;VALUE=DATE:20251205
DTSTAMP:20260420T181423
CREATED:20251019T200452Z
LAST-MODIFIED:20251019T200452Z
UID:10000420-1764460800-1764892799@www.healthcarenowradio.com
SUMMARY:RSNA 2025
DESCRIPTION:November 30 – December 4\, 2025 McCormick Place\, Chicago IL \nJoin the global radiology community in exploring the future of precision medicine and inclusivity at RSNA 2025: Imaging the Individual! \nThe RSNA annual meeting is the world’s leading radiology forum; offering a robust research and education program\, access to the latest medical imaging technologies and an array of opportunities for professional engagement and career advancement. \nBe sure to check out a preview of the program and explore the exceptional lineup of plenary speakers. \nDiscover the Latest Innovations\n\nSee Who’s Exhibiting\nPreview the show floor of the world’s largest medical imaging exhibition! From industry giants to small start-ups\, the Technical Exhibits showcase the latest products and solutions from hundreds of companies across the industry.\nAI Showcase\nEngage with new products\, attend AI Theater presentations and connect with exhibitors delivering innovative software and solutions. Plus\, explore RSNA-led imaging AI education and research.\nIndustry Presentations\nMeet industry leaders while you learn about the latest innovations. Browse corporate symposiums\, Lunch & Learns and theater presentations within the Technical Exhibits.\n3D Printing & Mixed Reality Showcase\nInteract with the latest 3D medical printing and augmented and virtual reality technologies in this focused exhibit area. Connect with experts and get a look at the future of these emerging areas within radiology.\nRadiology Reimagined\nVisit Radiology Reimagined: AI\, innovation and interoperability in practice for a variety of 30-minute interoperability demonstrations showcasing the new ways AI can be integrated into your practice.\n\nRegister for this event.
URL:https://www.healthcarenowradio.com/event/rsna-2025/
LOCATION:McCormick Place\, 2301 S King Dr\, Chicago\, IL\, 60616\, United States
CATEGORIES:In-Person Events
END:VEVENT
BEGIN:VEVENT
DTSTART;VALUE=DATE:20251204
DTEND;VALUE=DATE:20251207
DTSTAMP:20260420T181423
CREATED:20251102T013537Z
LAST-MODIFIED:20251102T013537Z
UID:10000424-1764806400-1765065599@www.healthcarenowradio.com
SUMMARY:Transform 2025
DESCRIPTION:December 4-6\, 2025  Anaheim Marriott\, Anaheim CA \nHashtag: #AACNTransform25 \nWhere Nurse Faculty and Innovation Meet\nTransform 2025 is AACN’s national conference specifically designed for faculty teaching in baccalaureate and/or master’s nursing programs. This annual gathering of nursing faculty features thought leaders who are redefining how professional nurses are educated and how they practice and provides opportunity for networking with colleagues and peers. \nKey Conference Benefits\n\nDiscover new developments in academic nursing along with the latest innovations impacting higher education and healthcare delivery.\nConnect with noted thought leaders and shape the future of nursing education.\nMeet face-to-face with peers and explore how your colleagues from across the nation are developing and inspiring future generations of nursing professionals.\nImmerse into a rich and diverse learning environment including plenary and breakout sessions\, focused discussions\, and informal breakfast forums.\nParticipate in abstract presentations\, which are selected following a competitive peer-review process.\nParticipants are eligible for Nursing Continuing Professional Development (NCPD).\n\nRegister for this event.
URL:https://www.healthcarenowradio.com/event/transform-2025/
LOCATION:Anaheim Marriott\, 700 West Convention Way\, Anaheim\, CA\, 92802\, United States
CATEGORIES:In-Person Events,Nursing
END:VEVENT
BEGIN:VEVENT
DTSTART;VALUE=DATE:20251210
DTEND;VALUE=DATE:20251213
DTSTAMP:20260420T181423
CREATED:20251019T204111Z
LAST-MODIFIED:20251019T204111Z
UID:10000421-1765324800-1765583999@www.healthcarenowradio.com
SUMMARY:ATA EDGE Policy Conference
DESCRIPTION:December 10-12\, 2025  Park Hyatt\, Washington DC \nLocking in Progress — Hardwiring Telehealth for 2030\nSecuring payment. Protecting data. Expanding access for all. \nThere’s a lot happening in Washington right now—and it’s reshaping virtual care. New policies. Shifting priorities. Big decisions. A new era of telehealth is being written in real time—and now is the time to make virtual care permanent. \nJoin them at ATA EDGE 2025\, the nation’s premier digital health policy forum\, where healthcare leaders\, policymakers\, and innovators come together to cut through the noise and shape what’s next. From emerging regulations to long-term strategy\, EDGE is where it all comes into focus—and where you need to be. \nWhy Attend?\nEDGE dives deep into the most urgent and complex policy issues of our time: \n\nPermanent reimbursement for telehealth\, RPM\, digital therapeutics\, PDURS\, and AI-enabled tools.\nLicensure portability and workforce flexibility to enable care anywhere\, anytime.\nUnified standards for privacy and cybersecurity that bridge HIPAA\, consumer protections\, and payer requirements.\nProgram integrity and platform security to protect patient trust and system sustainability.\nThe rise of “Care at Home\,” including Virtual Foodcare and employer-sponsored digital benefits.\nRemote monitoring and connected device adoption\, from hospital-at-home to chronic care management.\nDirect-to-consumer models and population-specific priorities\, including behavioral health and pharma partnerships.\n\nPlus\, hear directly from top legal and regulatory experts on federal and state policy alignment—from DEA prescribing rules and interstate compacts to emerging shield laws and data regulations. \nEDGE is not just a policy conference—it’s a policy catalyst. This is your front-row seat to a new era of care delivery. Join the leaders driving telehealth forward and leave with the insights and strategies to influence what’s next. \nRegister for this event.
URL:https://www.healthcarenowradio.com/event/ata-edge-policy-conference/
LOCATION:Park Hyatt\, 1201 24th St NW\, Washington\, DC\, 20037\, United States
CATEGORIES:In-Person Events
END:VEVENT
END:VCALENDAR