
BEGIN:VCALENDAR
VERSION:2.0
PRODID:-//HealthcareNOWradio.com - ECPv6.15.17//NONSGML v1.0//EN
CALSCALE:GREGORIAN
METHOD:PUBLISH
X-WR-CALNAME:HealthcareNOWradio.com
X-ORIGINAL-URL:https://www.healthcarenowradio.com
X-WR-CALDESC:Events for HealthcareNOWradio.com
REFRESH-INTERVAL;VALUE=DURATION:PT1H
X-Robots-Tag:noindex
X-PUBLISHED-TTL:PT1H
BEGIN:VTIMEZONE
TZID:America/New_York
BEGIN:DAYLIGHT
TZOFFSETFROM:-0500
TZOFFSETTO:-0400
TZNAME:EDT
DTSTART:20250309T070000
END:DAYLIGHT
BEGIN:STANDARD
TZOFFSETFROM:-0400
TZOFFSETTO:-0500
TZNAME:EST
DTSTART:20251102T060000
END:STANDARD
BEGIN:DAYLIGHT
TZOFFSETFROM:-0500
TZOFFSETTO:-0400
TZNAME:EDT
DTSTART:20260308T070000
END:DAYLIGHT
BEGIN:STANDARD
TZOFFSETFROM:-0400
TZOFFSETTO:-0500
TZNAME:EST
DTSTART:20261101T060000
END:STANDARD
BEGIN:DAYLIGHT
TZOFFSETFROM:-0500
TZOFFSETTO:-0400
TZNAME:EDT
DTSTART:20270314T070000
END:DAYLIGHT
BEGIN:STANDARD
TZOFFSETFROM:-0400
TZOFFSETTO:-0500
TZNAME:EST
DTSTART:20271107T060000
END:STANDARD
END:VTIMEZONE
BEGIN:VEVENT
DTSTART;VALUE=DATE:20260422
DTEND;VALUE=DATE:20260424
DTSTAMP:20260423T114101
CREATED:20260224T214015Z
LAST-MODIFIED:20260224T214015Z
UID:10000438-1776816000-1776988799@www.healthcarenowradio.com
SUMMARY:Catalyst for Health 2026
DESCRIPTION:April 22-23\, 2026  Kimpton Sawyer Hotel\, Sacramento CA \nEvent Page \nWhere Ingenuity Meets Impact\nCalifornia’s health care ecosystem to share strategies\, build relationships and tackle the state’s most pressing challenges annually. The 2026 Forum will center on the theme Where Ingenuity Meets Impact\, exploring how stakeholders can achieve greater impact with limited resources through innovation\, collaboration and practical solutions. \nThe Forum is being hosted at the Kimpton Sawyer Hotel in Sacramento\, kicking off with a Welcome Reception sponsored by Bayer Pharmaceuticals on Wednesday\, offering health care leaders an intimate opportunity to connect and build relationships ahead of the full-day convening. \nRegister for this event.
URL:https://www.healthcarenowradio.com/event/catalyst-for-health-2026/
LOCATION:Kimpton Sawyer Hotel\, 500 J Street\, Sacramento\, CA\, 95814\, United States
CATEGORIES:In-Person Events
END:VEVENT
END:VCALENDAR