
BEGIN:VCALENDAR
VERSION:2.0
PRODID:-//HealthcareNOWradio.com - ECPv6.15.17//NONSGML v1.0//EN
CALSCALE:GREGORIAN
METHOD:PUBLISH
X-WR-CALNAME:HealthcareNOWradio.com
X-ORIGINAL-URL:https://www.healthcarenowradio.com
X-WR-CALDESC:Events for HealthcareNOWradio.com
REFRESH-INTERVAL;VALUE=DURATION:PT1H
X-Robots-Tag:noindex
X-PUBLISHED-TTL:PT1H
BEGIN:VTIMEZONE
TZID:America/New_York
BEGIN:DAYLIGHT
TZOFFSETFROM:-0500
TZOFFSETTO:-0400
TZNAME:EDT
DTSTART:20250309T070000
END:DAYLIGHT
BEGIN:STANDARD
TZOFFSETFROM:-0400
TZOFFSETTO:-0500
TZNAME:EST
DTSTART:20251102T060000
END:STANDARD
BEGIN:DAYLIGHT
TZOFFSETFROM:-0500
TZOFFSETTO:-0400
TZNAME:EDT
DTSTART:20260308T070000
END:DAYLIGHT
BEGIN:STANDARD
TZOFFSETFROM:-0400
TZOFFSETTO:-0500
TZNAME:EST
DTSTART:20261101T060000
END:STANDARD
BEGIN:DAYLIGHT
TZOFFSETFROM:-0500
TZOFFSETTO:-0400
TZNAME:EDT
DTSTART:20270314T070000
END:DAYLIGHT
BEGIN:STANDARD
TZOFFSETFROM:-0400
TZOFFSETTO:-0500
TZNAME:EST
DTSTART:20271107T060000
END:STANDARD
END:VTIMEZONE
BEGIN:VEVENT
DTSTART;VALUE=DATE:20260420
DTEND;VALUE=DATE:20260422
DTSTAMP:20260420T075109
CREATED:20260224T212853Z
LAST-MODIFIED:20260224T212853Z
UID:10000437-1776643200-1776815999@www.healthcarenowradio.com
SUMMARY:CHAI Leadership Summit
DESCRIPTION:April 20-21\, 2026  Waldorf Astoria Monarch Beach Resort\, Dana Point CA \nEvent Page \nJoin them on the coast of California for a focused day of discussion and exchange on the practical realities shaping the next phase of health AI. As many organizations begin the year refining their AI strategies\, this Summit offers a chance to connect with peers working through similar decisions—and to compare what’s proving effective in real-world settings. \nThe CHAI Leadership Summit will convene health systems\, payers\, life sciences\, startups\, and industry leaders\, including C-suite executives and senior decision-makers from across the CHAI community. \nHosted in conjunction with the week-long Health Evolution AI Intensive and Summit\, this event provides a grounded look at how AI is being evaluated\, pursued\, governed\, and deployed in care delivery today. Through keynotes\, panels\, and small-group discussions\, participants will hear candid perspectives\, review real examples\, and gain practical insight into emerging technologies and policy developments\, while building connections with peers facing similar priorities. \nJoin them and shape the future of Health AI and the CHAI community! \nRegister for this event.
URL:https://www.healthcarenowradio.com/event/chai-leadership-summit/
LOCATION:Waldorf Astoria Monarch Beach Resort\, 1 Monarch Beach Resort North\, Dana Point\, CA\, 92629\, United States
CATEGORIES:In-Person Events
END:VEVENT
END:VCALENDAR