
BEGIN:VCALENDAR
VERSION:2.0
PRODID:-//HealthcareNOWradio.com - ECPv6.15.17//NONSGML v1.0//EN
CALSCALE:GREGORIAN
METHOD:PUBLISH
X-ORIGINAL-URL:https://www.healthcarenowradio.com
X-WR-CALDESC:Events for HealthcareNOWradio.com
REFRESH-INTERVAL;VALUE=DURATION:PT1H
X-Robots-Tag:noindex
X-PUBLISHED-TTL:PT1H
BEGIN:VTIMEZONE
TZID:America/New_York
BEGIN:DAYLIGHT
TZOFFSETFROM:-0500
TZOFFSETTO:-0400
TZNAME:EDT
DTSTART:20250309T070000
END:DAYLIGHT
BEGIN:STANDARD
TZOFFSETFROM:-0400
TZOFFSETTO:-0500
TZNAME:EST
DTSTART:20251102T060000
END:STANDARD
BEGIN:DAYLIGHT
TZOFFSETFROM:-0500
TZOFFSETTO:-0400
TZNAME:EDT
DTSTART:20260308T070000
END:DAYLIGHT
BEGIN:STANDARD
TZOFFSETFROM:-0400
TZOFFSETTO:-0500
TZNAME:EST
DTSTART:20261101T060000
END:STANDARD
BEGIN:DAYLIGHT
TZOFFSETFROM:-0500
TZOFFSETTO:-0400
TZNAME:EDT
DTSTART:20270314T070000
END:DAYLIGHT
BEGIN:STANDARD
TZOFFSETFROM:-0400
TZOFFSETTO:-0500
TZNAME:EST
DTSTART:20271107T060000
END:STANDARD
END:VTIMEZONE
BEGIN:VEVENT
DTSTART;VALUE=DATE:20260317
DTEND;VALUE=DATE:20260320
DTSTAMP:20260420T080000
CREATED:20260112T005619Z
LAST-MODIFIED:20260112T005619Z
UID:10000435-1773705600-1773964799@www.healthcarenowradio.com
SUMMARY:PAP Conference 2026
DESCRIPTION:March 17-19\, 2026  Sheraton Philadelphia Downtown\, Philadelphia PA \nHashtag: #PAP2026 \nEmpower Patients. Champion Affordability. Accelerate Access.\nAt the PAP Conference 2026\, stakeholders unite to talk strategies for program optimization and provide crucial updates on evolving health policy and shifting market dynamics to transform patient outcomes\, maximize medication access and prioritize the patient experience. \nKeynote Speaker Announced!\nThey are excited to announce their patient keynote address\, Jimmy Choi\, Parkinson’s advocate\, American Ninja Warrior and global inspiration\, will deliver Breaking Barriers – A Patient’s Journey to Resilience\, Access and Advocacy where he will share his extraordinary journey of resilience and advocacy. Diagnosed with Young Onset Parkinson’s at 27\, Jimmy has defied expectations\, completing marathons\, breaking records and inspiring millions worldwide. In this keynote\, explore the critical themes of patient affordability and access\, offering a unique perspective on the challenges faced by patients navigating rare diseases and chronic conditions. Through his personal story\, Jimmy highlights the importance of empowering patients\, fostering community support and driving innovation in patient support programs. \nPharma’s Trusted Access and Affordability Event for Over 25 Years\nAs the population of underinsured and uninsured patients expands at an unprecedented rate\, patient assistance programs face resource constraints in a time of surging demand. PAP – Patient Assistance & Access Programs convenes pharmaceutical leaders\, patient foundations\, health clinics and more to benchmark on the latest PAP industry standards\, strategize on program optimization and streamline operational complexities to increase access. Equip yourself with the essential tools to stay ahead of industry standards in patient assistance\, navigate the latest updates in health policy\, explore cutting-edge tools and technologies to empower patients and tackle the challenges that lie ahead in the coming year. \nEarly bird registration ends January 16th! \nRegister for this event.
URL:https://www.healthcarenowradio.com/event/pap-conference-2026/
LOCATION:Sheraton Philadelphia Downtown\, 201 N\, 17th St.\, Philadelphia\, PA\, 19103\, United States
CATEGORIES:In-Person Events
END:VEVENT
END:VCALENDAR